BEGIN:VCALENDAR
VERSION:2.0
PRODID:-//hacksw/handcal//NONSGML v1.0//EN
CALSCALE:GREGORIAN
BEGIN:VEVENT
DTEND:20241001T210000Z
UID: 69e69562c746e
DTSTAMP:20260420T160642Z
LOCATION:The Gerber Center for Student Life
DESCRIPTION:
URL;VALUE=URI:https://www.augustana.edu/about-us/events/2024/queerly-beloved-panel-and-resource-fair
SUMMARY:'Queerly Beloved' panel and resource fair
DTSTART:20241001T210000Z
END:VEVENT
END:VCALENDAR
