BEGIN:VCALENDAR
VERSION:2.0
PRODID:-//hacksw/handcal//NONSGML v1.0//EN
CALSCALE:GREGORIAN
BEGIN:VEVENT
DTEND:20241005T140000Z
UID: 69e694d59ff59
DTSTAMP:20260420T160421Z
LOCATION:Peter J. Lindberg\, M.D.\, Center for Health and Human Performance
DESCRIPTION:For a fee\, come to our lab in Lindberg from 9 a.m.-2 p.m. and get either a body composition test or a VO2 max test conducted by students from the Kinesiology program!Email kinesiologylab@augustana.edu to schedule an appointment.→ See flyerPricingCash onlyBodPod Testing:$20 for students$30 for staff\, faculty and alumni$40 for general publicVO2 Max Testing:$40 for students$50 for staff\, faculty and alumni$60 for general public
URL;VALUE=URI:https://www.augustana.edu/about-us/events/2024/fitness-clinic
SUMMARY:Fitness Clinic
DTSTART:20241005T140000Z
END:VEVENT
END:VCALENDAR
