BEGIN:VCALENDAR
VERSION:2.0
PRODID:-//hacksw/handcal//NONSGML v1.0//EN
CALSCALE:GREGORIAN
BEGIN:VEVENT
DTEND:20240915T200000Z
UID: 69e6453f0728c
DTSTAMP:20260420T102447Z
LOCATION:Lincoln Park
DESCRIPTION:The Augustana men's tennis team plays Wartburg.→ See the full 2024-25 men's tennis schedule
URL;VALUE=URI:https://www.augustana.edu/about-us/events/2024/mens-tennis-vs-wartburg
SUMMARY:Men's tennis vs. Wartburg
DTSTART:20240915T200000Z
END:VEVENT
END:VCALENDAR
