BEGIN:VCALENDAR
VERSION:2.0
PRODID:-//hacksw/handcal//NONSGML v1.0//EN
CALSCALE:GREGORIAN
BEGIN:VEVENT
DTEND:20241011T210000Z
UID: 69e6ad0778d82
DTSTAMP:20260420T174735Z
LOCATION:Lincoln Park
DESCRIPTION:The Augustana women's tennis team plays Carroll.→ See the full 2024-25 women's tennis schedule
URL;VALUE=URI:https://www.augustana.edu/about-us/events/2024/womens-tennis-vs-carroll
SUMMARY:Women's tennis vs. Carroll
DTSTART:20241011T210000Z
END:VEVENT
END:VCALENDAR
