BEGIN:VCALENDAR
VERSION:2.0
PRODID:-//hacksw/handcal//NONSGML v1.0//EN
CALSCALE:GREGORIAN
BEGIN:VEVENT
DTEND:20240922T180000Z
UID: 69e6ad5989364
DTSTAMP:20260420T174857Z
LOCATION:Lincoln Park
DESCRIPTION:The Augustana women's tennis team plays North Central.→ See the full 2024-25 women's tennis schedule
URL;VALUE=URI:https://www.augustana.edu/about-us/events/2024/womens-tennis-vs-north-central
SUMMARY:Women's tennis vs. North Central
DTSTART:20240922T180000Z
END:VEVENT
END:VCALENDAR
