BEGIN:VCALENDAR
VERSION:2.0
PRODID:-//hacksw/handcal//NONSGML v1.0//EN
CALSCALE:GREGORIAN
BEGIN:VEVENT
DTEND:20240917T210000Z
UID: 69e6acf8e0d9a
DTSTAMP:20260420T174720Z
LOCATION:Lincoln Park
DESCRIPTION:The Augustana women's tennis team plays Elmhurst.→ See the full 2024-25 women's tennis schedule
URL;VALUE=URI:https://www.augustana.edu/about-us/events/2024/womens-tennis-vs-elmhurst
SUMMARY:Women's tennis vs. Elmhurst
DTSTART:20240917T210000Z
END:VEVENT
END:VCALENDAR
