BEGIN:VCALENDAR
VERSION:2.0
PRODID:-//hacksw/handcal//NONSGML v1.0//EN
CALSCALE:GREGORIAN
BEGIN:VEVENT
DTEND:20240907T160000Z
UID: 69e6ade2106c5
DTSTAMP:20260420T175114Z
LOCATION:Lincoln Park
DESCRIPTION:The Augustana women's tennis team plays Wheaton.→ See the full 2024-25 women's tennis schedule
URL;VALUE=URI:https://www.augustana.edu/about-us/events/2024/womens-tennis-vs-wheaton
SUMMARY:Women's tennis vs. Wheaton
DTSTART:20240907T160000Z
END:VEVENT
END:VCALENDAR
