BEGIN:VCALENDAR
VERSION:2.0
PRODID:-//hacksw/handcal//NONSGML v1.0//EN
CALSCALE:GREGORIAN
BEGIN:VEVENT
DTEND:20250315T170000Z
UID: 69e6ad2163fa9
DTSTAMP:20260420T174801Z
LOCATION:Thorson-Lucken Field
DESCRIPTION:The Augustana women's lacrosse team plays UW-Stevens Point.→ See the full 2025 women's lacrosse schedule
URL;VALUE=URI:https://www.augustana.edu/about-us/events/2025/womens-lacrosse-vs-university-wisconsin-stevens-point
SUMMARY:Women's lacrosse vs. University of Wisconsin-Stevens Point
DTSTART:20250315T170000Z
END:VEVENT
END:VCALENDAR
