BEGIN:VCALENDAR
VERSION:2.0
PRODID:-//hacksw/handcal//NONSGML v1.0//EN
CALSCALE:GREGORIAN
BEGIN:VEVENT
DTEND:20250227T000000Z
UID: 69e6acbfcaa32
DTSTAMP:20260420T174623Z
LOCATION:Thorson-Lucken Field
DESCRIPTION:The Augustana women's lacrosse team plays MSOE.→ See the full 2025 women's lacrosse schedule
URL;VALUE=URI:https://www.augustana.edu/about-us/events/2025/womens-lacrosse-vs-milwaukee-school-engineering
SUMMARY:Women's lacrosse vs. Milwaukee School of Engineering
DTSTART:20250227T000000Z
END:VEVENT
END:VCALENDAR
