BEGIN:VCALENDAR
VERSION:2.0
PRODID:-//hacksw/handcal//NONSGML v1.0//EN
CALSCALE:GREGORIAN
BEGIN:VEVENT
DTEND:20250409T220000Z
UID: 69e6ae2b1cef9
DTSTAMP:20260420T175227Z
LOCATION:Thorson-Lucken Field
DESCRIPTION:The Augustana women's lacrosse team plays Illinois Wesleyan.→ See the full 2025 women's lacrosse schedule
URL;VALUE=URI:https://www.augustana.edu/about-us/events/2025/womens-lacrosse-vs-illinois-wesleyan
SUMMARY:Women's lacrosse vs. Illinois Wesleyan
DTSTART:20250409T220000Z
END:VEVENT
END:VCALENDAR
