BEGIN:VCALENDAR
VERSION:2.0
PRODID:-//hacksw/handcal//NONSGML v1.0//EN
CALSCALE:GREGORIAN
BEGIN:VEVENT
DTEND:20250301T190000Z
UID: 69e6ae359e845
DTSTAMP:20260420T175237Z
LOCATION:Thorson-Lucken Field
DESCRIPTION:The Augustana women's lacrosse team plays Hamline.→ See the full 2025 women's lacrosse schedule
URL;VALUE=URI:https://www.augustana.edu/about-us/events/2025/womens-lacrosse-vs-hamline
SUMMARY:Women's lacrosse vs. Hamline
DTSTART:20250301T190000Z
END:VEVENT
END:VCALENDAR
