BEGIN:VCALENDAR
VERSION:2.0
PRODID:-//hacksw/handcal//NONSGML v1.0//EN
CALSCALE:GREGORIAN
BEGIN:VEVENT
DTEND:20250322T190000Z
UID: 69e6adb7b5c5c
DTSTAMP:20260420T175031Z
LOCATION:Thorson-Lucken Field
DESCRIPTION:The Augustana women's lacrosse &nbsp\;team plays Albion.→ See the full 2025 women's lacrosse schedule
URL;VALUE=URI:https://www.augustana.edu/about-us/events/2025/womens-lacrosse-vs-albion
SUMMARY:Women's lacrosse vs. Albion
DTSTART:20250322T190000Z
END:VEVENT
END:VCALENDAR
