BEGIN:VCALENDAR
VERSION:2.0
PRODID:-//hacksw/handcal//NONSGML v1.0//EN
CALSCALE:GREGORIAN
BEGIN:VEVENT
DTEND:20241008T000000Z
UID: 69e6ae4606d4d
DTSTAMP:20260420T175254Z
LOCATION:Wallenberg Hall\, Denkmann Memorial Building
DESCRIPTION:
URL;VALUE=URI:https://www.augustana.edu/about-us/events/2024/guest-speaker-dr-dannagal-young
SUMMARY:Guest speaker: Dr. Dannagal Young
DTSTART:20241008T000000Z
END:VEVENT
END:VCALENDAR
