BEGIN:VCALENDAR
VERSION:2.0
PRODID:-//hacksw/handcal//NONSGML v1.0//EN
CALSCALE:GREGORIAN
BEGIN:VEVENT
DTEND:20250305T220000Z
UID: 69e6adc7bf168
DTSTAMP:20260420T175047Z
LOCATION:
DESCRIPTION:Begin to imagine what your future holds as you discover all of the opportunities available to you through Augustana College's Master of Science in Speech-Language Pathology program.In this informational session\, you will hear from faculty members as they introduce you to the program with a focus on academic and clinic programs. You will also hear from students who are currently enrolled in the program.→ See all MS-SLP information session dates
URL;VALUE=URI:https://www.augustana.edu/about-us/events/2025/admitted-student-virtual-event-ms-slp-information-session
SUMMARY:Admitted student virtual event: MS-SLP information session
DTSTART:20250305T220000Z
END:VEVENT
END:VCALENDAR
