BEGIN:VCALENDAR
VERSION:2.0
PRODID:-//hacksw/handcal//NONSGML v1.0//EN
CALSCALE:GREGORIAN
BEGIN:VEVENT
DTEND:20240906T213000Z
UID: 69e6ad8ed7da1
DTSTAMP:20260420T174950Z
LOCATION:Thomas Tredway Library
DESCRIPTION:Join the Thomas Tredway Library in celebrating the opening of "The Harmony of Light and Color\," an exhibition of oil paintings and photographs by Dr. Dan Lee. We invite you to visit on Friday\, Sept. 6\, from 4:30-6 p.m. on the library's second floor to view the exhibition and recognize Dr. Lee's work.
URL;VALUE=URI:https://www.augustana.edu/about-us/events/2024/opening-reception-harmony-light-and-color-dr-dan-lee
SUMMARY:Opening reception for 'The Harmony of Light and Color' by Dr. Dan Lee
DTSTART:20240906T213000Z
END:VEVENT
END:VCALENDAR
