BEGIN:VCALENDAR
VERSION:2.0
PRODID:-//hacksw/handcal//NONSGML v1.0//EN
CALSCALE:GREGORIAN
BEGIN:VEVENT
DTEND:20241206T210000Z
UID: 69e6ae4650c52
DTSTAMP:20260420T175254Z
LOCATION:PepsiCo Recreation Center
DESCRIPTION:The Augustana men's and women's track and field teams will perform at the Vikings alumni intrasquad meet.→ See the full 2024-25 men's track and field schedule→ See the full 2024-25 women's track and field schedule
URL;VALUE=URI:https://www.augustana.edu/about-us/events/2024/track-and-field-vikings-alumni-intrasquad-meet
SUMMARY:Track and field: Vikings alumni intrasquad meet
DTSTART:20241206T210000Z
END:VEVENT
END:VCALENDAR
