BEGIN:VCALENDAR
VERSION:2.0
PRODID:-//hacksw/handcal//NONSGML v1.0//EN
CALSCALE:GREGORIAN
BEGIN:VEVENT
DTEND:20241004T000000Z
UID: 69e6ad0ca8738
DTSTAMP:20260420T174740Z
LOCATION:Peter J. Lindberg\, M.D.\, Center for Health and Human Performance
DESCRIPTION:Join us to celebrate 10 years of the public health program at Augustana College at a special presentation and reception. Dr. Alan Bridges '79 will speak about the pioneering work of the late Dr. Richard O’Connor Jr. during the 1983 botulism outbreak in Peoria. A dessert reception and public health program open house will follow the presentation.
URL;VALUE=URI:https://www.augustana.edu/about-us/events/2024/presentation-celebrating-10-years-public-health-augustana-college
SUMMARY:Presentation: 'Celebrating 10 Years of Public Health at Augustana College'
DTSTART:20241004T000000Z
END:VEVENT
END:VCALENDAR
