BEGIN:VCALENDAR
VERSION:2.0
PRODID:-//hacksw/handcal//NONSGML v1.0//EN
CALSCALE:GREGORIAN
BEGIN:VEVENT
DTEND:20250215T150000Z
UID: 69e6acf8ae15b
DTSTAMP:20260420T174720Z
LOCATION:Carver P.E. Center
DESCRIPTION:Academic Scholarship Days help prospective students and their families learn more about what Augustana College has to offer.Participate in an Academic Scholarship Day and you could achieve an extra $1\,000 grant a year for four years. More than 30 academic departments from 90 majors and other programs will be your hosts.→ Sign up now!Schedule9-9:45 a.m.: Check in\, academic and resources fair10-10:15 a.m.: Welcome address10:30-11 a.m.: Academic department open house11 a.m.-12 p.m.: Academic department scholarship competition (students only)11:15 a.m.-12 p.m.: Parent and guest sessions12-1:45 p.m.: Campus tours and lunch12-3 p.m.: Wrap-up reception with Admissions
URL;VALUE=URI:https://www.augustana.edu/about-us/events/2025/academic-scholarship-day
SUMMARY:Academic Scholarship Day
DTSTART:20250215T150000Z
END:VEVENT
END:VCALENDAR
