BEGIN:VCALENDAR
VERSION:2.0
PRODID:-//hacksw/handcal//NONSGML v1.0//EN
CALSCALE:GREGORIAN
BEGIN:VEVENT
DTEND:20241105T153000Z
UID: 69e6ae010e264
DTSTAMP:20260420T175145Z
LOCATION:The Gerber Center for Student Life
DESCRIPTION:Viking Visit Day helps prospective students and their families learn more about what Augustana College has to offer.Attendees will participate in a campus tour\, student opportunities fair and an informational session by Admissions. You'll also hear a special presentation about how CORE (Careers\, Opportunities\, Research\, Exploration) connects students with the ways they can bring their career goals and dreams to life.→ Sign up now!Schedule:9:30-10 a.m.: Check in and opportunities fair10-10:30 a.m.: Welcome and CORE (Careers\, Opportunities\, Research and Exploration) presentation10:30-11:45 a.m.: Campus tour11:45 a.m.-12:15 p.m.: Admissions and scholarship overview12:15 p.m.: Wrap up with Admissions12:15 p.m. Lunch (optional)
URL;VALUE=URI:https://www.augustana.edu/about-us/events/2024/viking-visit-day
SUMMARY:Viking Visit Day
DTSTART:20241105T153000Z
END:VEVENT
END:VCALENDAR
