BEGIN:VCALENDAR
VERSION:2.0
PRODID:-//hacksw/handcal//NONSGML v1.0//EN
CALSCALE:GREGORIAN
BEGIN:VEVENT
DTEND:20241012T140000Z
UID: 69e6c22da6b21
DTSTAMP:20260420T191749Z
LOCATION:Carver P.E. Center
DESCRIPTION:Fall Visit Day helps prospective students and their families learn more about what Augustana College has to offer.The day begins with a 9 a.m. check-in at the Carver Center\, followed by an academic session in your chosen major led by members of our faculty. You will finish your day with a campus tour and lunch in our main dining hall.→ Sign up now!Schedule9-9:45 a.m.: Check in\, academic and resources fair10-10:45&nbsp\;a.m.: Welcome address\, admissions and scholarship overview11-11:30&nbsp\;a.m.: Academic session hosted by Augustana faculty11:30&nbsp\;a.m.-1:30&nbsp\;p.m.: Campus tour and lunch1:30-3&nbsp\;p.m.: Wrap-up reception with Admissions
URL;VALUE=URI:https://www.augustana.edu/about-us/events/2024/fall-visit-day
SUMMARY:Fall Visit Day
DTSTART:20241012T140000Z
END:VEVENT
END:VCALENDAR
