BEGIN:VCALENDAR
VERSION:2.0
PRODID:-//hacksw/handcal//NONSGML v1.0//EN
CALSCALE:GREGORIAN
BEGIN:VEVENT
DTEND:20241124T013000Z
UID: 69e6c1a5cfb53
DTSTAMP:20260420T191533Z
LOCATION:Centennial Hall
DESCRIPTION:The Augustana Symphonic Band will perform\, directed by Dr. James Lambrecht. The group will premiere "Symphony No. 6: Color of Stars\," a piece by American composer Kevin Walczyk written in honor of the band's 150th anniversary. The alumni band will also perform.
URL;VALUE=URI:https://www.augustana.edu/about-us/events/2024/augustana-symphonic-band-celebration-concert
SUMMARY:Augustana Symphonic Band celebration concert
DTSTART:20241124T013000Z
END:VEVENT
END:VCALENDAR
