BEGIN:VCALENDAR
VERSION:2.0
PRODID:-//hacksw/handcal//NONSGML v1.0//EN
CALSCALE:GREGORIAN
BEGIN:VEVENT
DTEND:20250222T200000Z
UID: 69e6c1c6e79d6
DTSTAMP:20260420T191606Z
LOCATION:Carver P.E. Center
DESCRIPTION:The Augustana women's basketball team plays Illinois Wesleyan.→ See the full 2024-25 women's basketball schedule
URL;VALUE=URI:https://www.augustana.edu/about-us/events/2025/womens-basketball-vs-illinois-wesleyan
SUMMARY:Women's basketball vs. Illinois Wesleyan
DTSTART:20250222T200000Z
END:VEVENT
END:VCALENDAR
