BEGIN:VCALENDAR
VERSION:2.0
PRODID:-//hacksw/handcal//NONSGML v1.0//EN
CALSCALE:GREGORIAN
BEGIN:VEVENT
DTEND:20250201T200000Z
UID: 69e6c28690edb
DTSTAMP:20260420T191918Z
LOCATION:Carver P.E. Center
DESCRIPTION:The Augustana women's basketball team plays North Central.→ See the full 2024-25 women's basketball schedule
URL;VALUE=URI:https://www.augustana.edu/about-us/events/2025/womens-basketball-vs-north-central
SUMMARY:Women's basketball vs. North Central
DTSTART:20250201T200000Z
END:VEVENT
END:VCALENDAR
