BEGIN:VCALENDAR
VERSION:2.0
PRODID:-//hacksw/handcal//NONSGML v1.0//EN
CALSCALE:GREGORIAN
BEGIN:VEVENT
DTEND:20241115T230000Z
UID: 69e6c1a63f196
DTSTAMP:20260420T191534Z
LOCATION:Carver P.E. Center
DESCRIPTION:The Augustana women's basketball team plays Saint Mary's.→ See the full 2024-25 women's basketball schedule
URL;VALUE=URI:https://www.augustana.edu/about-us/events/2024/womens-basketball-vs-saint-marys
SUMMARY:Women's basketball vs. Saint Mary's
DTSTART:20241115T230000Z
END:VEVENT
END:VCALENDAR
