BEGIN:VCALENDAR
VERSION:2.0
PRODID:-//hacksw/handcal//NONSGML v1.0//EN
CALSCALE:GREGORIAN
BEGIN:VEVENT
DTEND:20241019T180000Z
UID: 69e6c21f0a37d
DTSTAMP:20260420T191735Z
LOCATION:Thorson-Lucken Field
DESCRIPTION:The Augustana women's soccer team plays Grinnell.→ See the full 2024 women's soccer schedule
URL;VALUE=URI:https://www.augustana.edu/about-us/events/2024/womens-soccer-vs-grinnell
SUMMARY:Women's soccer vs. Grinnell
DTSTART:20241019T180000Z
END:VEVENT
END:VCALENDAR
