BEGIN:VCALENDAR
VERSION:2.0
PRODID:-//hacksw/handcal//NONSGML v1.0//EN
CALSCALE:GREGORIAN
BEGIN:VEVENT
DTEND:20241017T000000Z
UID: 69e6c28c8d342
DTSTAMP:20260420T191924Z
LOCATION:Thorson-Lucken Field
DESCRIPTION:The Augustana women's soccer team plays Illinois Wesleyan.→ See the full 2024 women's soccer schedule
URL;VALUE=URI:https://www.augustana.edu/about-us/events/2024/womens-soccer-vs-illinois-wesleyan
SUMMARY:Women's soccer vs. Illinois Wesleyan
DTSTART:20241017T000000Z
END:VEVENT
END:VCALENDAR
