BEGIN:VCALENDAR
VERSION:2.0
PRODID:-//hacksw/handcal//NONSGML v1.0//EN
CALSCALE:GREGORIAN
BEGIN:VEVENT
DTEND:20241003T000000Z
UID: 69e6c1a5c7dc3
DTSTAMP:20260420T191533Z
LOCATION:Thorson-Lucken Field
DESCRIPTION:The Augustana women's soccer team plays Wartburg.→ See the full 2024 women's soccer schedule
URL;VALUE=URI:https://www.augustana.edu/about-us/events/2024/womens-soccer-vs-wartburg
SUMMARY:Women's soccer vs. Wartburg
DTSTART:20241003T000000Z
END:VEVENT
END:VCALENDAR
