BEGIN:VCALENDAR
VERSION:2.0
PRODID:-//hacksw/handcal//NONSGML v1.0//EN
CALSCALE:GREGORIAN
BEGIN:VEVENT
DTEND:20240921T180000Z
UID: 69e6c2862a9a1
DTSTAMP:20260420T191918Z
LOCATION:Thorson-Lucken Field
DESCRIPTION:The Augustana women's soccer team plays Cornell.→ See the full 2024 women's soccer schedule
URL;VALUE=URI:https://www.augustana.edu/about-us/events/2024/womens-soccer-vs-cornell
SUMMARY:Women's soccer vs. Cornell
DTSTART:20240921T180000Z
END:VEVENT
END:VCALENDAR
