BEGIN:VCALENDAR
VERSION:2.0
PRODID:-//hacksw/handcal//NONSGML v1.0//EN
CALSCALE:GREGORIAN
BEGIN:VEVENT
DTEND:20240919T000000Z
UID: 69e6c22db704e
DTSTAMP:20260420T191749Z
LOCATION:Thorson-Lucken Field
DESCRIPTION:The Augustana women's soccer team plays Monmouth.→ See the full 2024 women's soccer schedule
URL;VALUE=URI:https://www.augustana.edu/about-us/events/2024/womens-soccer-vs-monmouth
SUMMARY:Women's soccer vs. Monmouth
DTSTART:20240919T000000Z
END:VEVENT
END:VCALENDAR
