BEGIN:VCALENDAR
VERSION:2.0
PRODID:-//hacksw/handcal//NONSGML v1.0//EN
CALSCALE:GREGORIAN
BEGIN:VEVENT
DTEND:20241019T190000Z
UID: 69e6c233cea2b
DTSTAMP:20260420T191755Z
LOCATION:Peter J. Lindberg\, M.D.\, Center for Health and Human Performance
DESCRIPTION:The Augustana men's water polo team will play McKendree.→ See the full 2024 men's water polo schedule
URL;VALUE=URI:https://www.augustana.edu/about-us/events/2024/mens-water-polo-vs-mckendree
SUMMARY:Men's water polo vs. McKendree
DTSTART:20241019T190000Z
END:VEVENT
END:VCALENDAR
