BEGIN:VCALENDAR
VERSION:2.0
PRODID:-//hacksw/handcal//NONSGML v1.0//EN
CALSCALE:GREGORIAN
BEGIN:VEVENT
DTEND:20241108T223000Z
UID: 69e6c23457b1f
DTSTAMP:20260420T191756Z
LOCATION:Carver P.E. Center
DESCRIPTION:The Augustana women's volleyball team plays Nebraska Wesleyan.→ See the full women's volleyball 2024 schedule
URL;VALUE=URI:https://www.augustana.edu/about-us/events/2024/womens-volleyball-vs-nebraska-wesleyan
SUMMARY:Women's volleyball vs. Nebraska Wesleyan
DTSTART:20241108T223000Z
END:VEVENT
END:VCALENDAR
