BEGIN:VCALENDAR
VERSION:2.0
PRODID:-//hacksw/handcal//NONSGML v1.0//EN
CALSCALE:GREGORIAN
BEGIN:VEVENT
DTEND:20241107T010000Z
UID: 69e6c1e0b0641
DTSTAMP:20260420T191632Z
LOCATION:Carver P.E. Center
DESCRIPTION:The Augustana women's volleyball team plays Carthage.→ See the full women's volleyball 2024 schedule
URL;VALUE=URI:https://www.augustana.edu/about-us/events/2024/womens-volleyball-vs-carthage
SUMMARY:Women's volleyball vs. Carthage
DTSTART:20241107T010000Z
END:VEVENT
END:VCALENDAR
