BEGIN:VCALENDAR
VERSION:2.0
PRODID:-//hacksw/handcal//NONSGML v1.0//EN
CALSCALE:GREGORIAN
BEGIN:VEVENT
DTEND:20241006T180000Z
UID: 69e6c18798500
DTSTAMP:20260420T191503Z
LOCATION:Carver P.E. Center
DESCRIPTION:The Augustana women's volleyball team plays University of Wisconsin-La Crosse.→ See the full women's volleyball 2024 schedule
URL;VALUE=URI:https://www.augustana.edu/about-us/events/2024/womens-volleyball-vs-university-wisconsin-la-crosse
SUMMARY:Women's volleyball vs. University of Wisconsin-La Crosse
DTSTART:20241006T180000Z
END:VEVENT
END:VCALENDAR
