BEGIN:VCALENDAR
VERSION:2.0
PRODID:-//hacksw/handcal//NONSGML v1.0//EN
CALSCALE:GREGORIAN
BEGIN:VEVENT
DTEND:20241026T000000Z
UID: 69e6c2628c9c5
DTSTAMP:20260420T191842Z
LOCATION:Carver P.E. Center
DESCRIPTION:The Augustana women's volleyball team plays North Central.→ See the full women's volleyball 2024 schedule
URL;VALUE=URI:https://www.augustana.edu/about-us/events/2024/womens-volleyball-vs-north-central
SUMMARY:Women's volleyball vs. North Central
DTSTART:20241026T000000Z
END:VEVENT
END:VCALENDAR
