BEGIN:VCALENDAR
VERSION:2.0
PRODID:-//hacksw/handcal//NONSGML v1.0//EN
CALSCALE:GREGORIAN
BEGIN:VEVENT
DTEND:20241024T000000Z
UID: 69e6c1c6df32b
DTSTAMP:20260420T191606Z
LOCATION:Carver P.E. Center
DESCRIPTION:The Augustana women's volleyball team plays Illinois Wesleyan.→ See the full women's volleyball 2024 schedule
URL;VALUE=URI:https://www.augustana.edu/about-us/events/2024/womens-volleyball-vs-illinois-wesleyan
SUMMARY:Women's volleyball vs. Illinois Wesleyan
DTSTART:20241024T000000Z
END:VEVENT
END:VCALENDAR
