BEGIN:VCALENDAR
VERSION:2.0
PRODID:-//hacksw/handcal//NONSGML v1.0//EN
CALSCALE:GREGORIAN
BEGIN:VEVENT
DTEND:20241017T230000Z
UID: 69e6c1878e400
DTSTAMP:20260420T191503Z
LOCATION:Carver P.E. Center
DESCRIPTION:The Augustana women's volleyball team plays Webster.→ See the full women's volleyball 2024 schedule
URL;VALUE=URI:https://www.augustana.edu/about-us/events/2024/womens-volleyball-vs-webster
SUMMARY:Women's volleyball vs. Webster
DTSTART:20241017T230000Z
END:VEVENT
END:VCALENDAR
