BEGIN:VCALENDAR
VERSION:2.0
PRODID:-//hacksw/handcal//NONSGML v1.0//EN
CALSCALE:GREGORIAN
BEGIN:VEVENT
DTEND:20240914T000000Z
UID: 69e6c4fa75573
DTSTAMP:20260420T192946Z
LOCATION:Carver P.E. Center
DESCRIPTION:The Augustana women's volleyball team plays Buena Vista.→ See the full women's volleyball 2024 schedule
URL;VALUE=URI:https://www.augustana.edu/about-us/events/2024/womens-volleyball-vs-buena-vista
SUMMARY:Women's volleyball vs. Buena Vista
DTSTART:20240914T000000Z
END:VEVENT
END:VCALENDAR
