BEGIN:VCALENDAR
VERSION:2.0
PRODID:-//hacksw/handcal//NONSGML v1.0//EN
CALSCALE:GREGORIAN
BEGIN:VEVENT
DTEND:20241123T190000Z
UID: 69e6c1596796b
DTSTAMP:20260420T191417Z
LOCATION:Peter J. Lindberg\, M.D.\, Center for Health and Human Performance
DESCRIPTION:The Augustana men's and women's swimming and diving teams will meet against Grinnell.→ See the full 2024-25 men's swimming and diving schedule→ See the full 2024-25 women's swimming and diving schedule
URL;VALUE=URI:https://www.augustana.edu/about-us/events/2024/swimming-and-diving-vs-grinnell
SUMMARY:Swimming and diving vs. Grinnell
DTSTART:20241123T190000Z
END:VEVENT
END:VCALENDAR
