BEGIN:VCALENDAR
VERSION:2.0
PRODID:-//hacksw/handcal//NONSGML v1.0//EN
CALSCALE:GREGORIAN
BEGIN:VEVENT
DTEND:20241012T180000Z
UID: 69e6c523904d9
DTSTAMP:20260420T193027Z
LOCATION:Peter J. Lindberg\, M.D.\, Center for Health and Human Performance
DESCRIPTION:The Augustana men's and women's swimming and diving teams will meet against North Central.→ See the full 2024-25 men's swimming and diving schedule→ See the full 2024-25 women's swimming and diving schedule
URL;VALUE=URI:https://www.augustana.edu/about-us/events/2024/swimming-and-diving-vs-north-central
SUMMARY:Swimming and diving vs. North Central
DTSTART:20241012T180000Z
END:VEVENT
END:VCALENDAR
