BEGIN:VCALENDAR
VERSION:2.0
PRODID:-//hacksw/handcal//NONSGML v1.0//EN
CALSCALE:GREGORIAN
BEGIN:VEVENT
DTEND:20241026T203000Z
UID: 69e6c600ca83a
DTSTAMP:20260420T193408Z
LOCATION:Thorson-Lucken Field
DESCRIPTION:The Augustana men's soccer team plays Millikin.→ See the full 2024 men's soccer schedule
URL;VALUE=URI:https://www.augustana.edu/about-us/events/2024/mens-soccer-vs-millikin
SUMMARY:Men's soccer vs. Millikin
DTSTART:20241026T203000Z
END:VEVENT
END:VCALENDAR
