BEGIN:VCALENDAR
VERSION:2.0
PRODID:-//hacksw/handcal//NONSGML v1.0//EN
CALSCALE:GREGORIAN
BEGIN:VEVENT
DTEND:20241024T000000Z
UID: 69e6d8d791d30
DTSTAMP:20260420T205431Z
LOCATION:Thorson-Lucken Field
DESCRIPTION:The Augustana men's soccer team plays Carthage.→ See the full 2024 men's soccer schedule
URL;VALUE=URI:https://www.augustana.edu/about-us/events/2024/mens-soccer-vs-carthage
SUMMARY:Men's soccer vs. Carthage
DTSTART:20241024T000000Z
END:VEVENT
END:VCALENDAR
