BEGIN:VCALENDAR
VERSION:2.0
PRODID:-//hacksw/handcal//NONSGML v1.0//EN
CALSCALE:GREGORIAN
BEGIN:VEVENT
DTEND:20241019T203000Z
UID: 69e6d926f160a
DTSTAMP:20260420T205550Z
LOCATION:Thorson-Lucken Field
DESCRIPTION:The Augustana men's soccer team plays Grinnell.→ See the full 2024 men's soccer schedule
URL;VALUE=URI:https://www.augustana.edu/about-us/events/2024/mens-soccer-vs-grinnell
SUMMARY:Men's soccer vs. Grinnell
DTSTART:20241019T203000Z
END:VEVENT
END:VCALENDAR
