BEGIN:VCALENDAR
VERSION:2.0
PRODID:-//hacksw/handcal//NONSGML v1.0//EN
CALSCALE:GREGORIAN
BEGIN:VEVENT
DTEND:20241005T203000Z
UID: 69e6d944ae179
DTSTAMP:20260420T205620Z
LOCATION:Thorson-Lucken Field
DESCRIPTION:The Augustana men's soccer team plays Carroll.→ See the full 2024 men's soccer schedule
URL;VALUE=URI:https://www.augustana.edu/about-us/events/2024/mens-soccer-vs-carroll
SUMMARY:Men's soccer vs. Carroll
DTSTART:20241005T203000Z
END:VEVENT
END:VCALENDAR
