BEGIN:VCALENDAR
VERSION:2.0
PRODID:-//hacksw/handcal//NONSGML v1.0//EN
CALSCALE:GREGORIAN
BEGIN:VEVENT
DTEND:20240911T000000Z
UID: 69e6d8cb91efd
DTSTAMP:20260420T205419Z
LOCATION:Thorson-Lucken Field
DESCRIPTION:The Augustana men's soccer team plays Knox.→ See the full 2024 men's soccer schedule
URL;VALUE=URI:https://www.augustana.edu/about-us/events/2024/mens-soccer-vs-knox
SUMMARY:Men's soccer vs. Knox
DTSTART:20240911T000000Z
END:VEVENT
END:VCALENDAR
