BEGIN:VCALENDAR
VERSION:2.0
PRODID:-//hacksw/handcal//NONSGML v1.0//EN
CALSCALE:GREGORIAN
BEGIN:VEVENT
DTEND:20240831T000000Z
UID: 69e6d8b406000
DTSTAMP:20260420T205356Z
LOCATION:Thorson-Lucken Field
DESCRIPTION:The Augustana men's soccer team plays Simpson.→ See the full 2024 men's soccer schedule
URL;VALUE=URI:https://www.augustana.edu/about-us/events/2024/mens-soccer-vs-simpson
SUMMARY:Men's soccer vs. Simpson
DTSTART:20240831T000000Z
END:VEVENT
END:VCALENDAR
