BEGIN:VCALENDAR
VERSION:2.0
PRODID:-//hacksw/handcal//NONSGML v1.0//EN
CALSCALE:GREGORIAN
BEGIN:VEVENT
DTEND:20250222T221500Z
UID: 69e6d8b4015d3
DTSTAMP:20260420T205356Z
LOCATION:Carver P.E. Center
DESCRIPTION:The Augustana men's basketball team plays Illinois Wesleyan.→ See the full 2024-25 men's basketball schedule
URL;VALUE=URI:https://www.augustana.edu/about-us/events/2025/mens-basketball-vs-illinois-wesleyan
SUMMARY:Men's basketball vs. Illinois Wesleyan
DTSTART:20250222T221500Z
END:VEVENT
END:VCALENDAR
