BEGIN:VCALENDAR
VERSION:2.0
PRODID:-//hacksw/handcal//NONSGML v1.0//EN
CALSCALE:GREGORIAN
BEGIN:VEVENT
DTEND:20250130T010000Z
UID: 69e6d96427598
DTSTAMP:20260420T205652Z
LOCATION:Carver P.E. Center
DESCRIPTION:The Augustana men's basketball team plays North Park.→ See the full 2024-25 men's basketball schedule
URL;VALUE=URI:https://www.augustana.edu/about-us/events/2025/mens-basketball-vs-north-park
SUMMARY:Men's basketball vs. North Park
DTSTART:20250130T010000Z
END:VEVENT
END:VCALENDAR
