BEGIN:VCALENDAR
VERSION:2.0
PRODID:-//hacksw/handcal//NONSGML v1.0//EN
CALSCALE:GREGORIAN
BEGIN:VEVENT
DTEND:20250118T221500Z
UID: 69e6d8ccb67a4
DTSTAMP:20260420T205420Z
LOCATION:Carver P.E. Center
DESCRIPTION:The Augustana men's basketball team plays Carroll.→ See the full 2024-25 men's basketball schedule
URL;VALUE=URI:https://www.augustana.edu/about-us/events/2025/mens-basketball-vs-carroll
SUMMARY:Men's basketball vs. Carroll
DTSTART:20250118T221500Z
END:VEVENT
END:VCALENDAR
