BEGIN:VCALENDAR
VERSION:2.0
PRODID:-//hacksw/handcal//NONSGML v1.0//EN
CALSCALE:GREGORIAN
BEGIN:VEVENT
DTEND:20241219T010000Z
UID: 69e6d8dd920b8
DTSTAMP:20260420T205437Z
LOCATION:Carver P.E. Center
DESCRIPTION:The Augustana men's basketball team plays Knox.→ See the full 2024-25 men's basketball schedule
URL;VALUE=URI:https://www.augustana.edu/about-us/events/2024/mens-basketball-vs-knox
SUMMARY:Men's basketball vs. Knox
DTSTART:20241219T010000Z
END:VEVENT
END:VCALENDAR
