BEGIN:VCALENDAR
VERSION:2.0
PRODID:-//hacksw/handcal//NONSGML v1.0//EN
CALSCALE:GREGORIAN
BEGIN:VEVENT
DTEND:20241109T180000Z
UID: 69e6d8dd3aea4
DTSTAMP:20260420T205437Z
LOCATION:Lindberg Stadium 
DESCRIPTION:The Augustana Vikings will play football vs. Carthage.Complete 2024 football schedule
URL;VALUE=URI:https://www.augustana.edu/about-us/events/2024/football-vs-carthage
SUMMARY:Football vs. Carthage
DTSTART:20241109T180000Z
END:VEVENT
END:VCALENDAR
